BEGIN:VCALENDAR
VERSION:2.0
PRODID:-//Tukios.com/
BEGIN:VEVENT
UID:5d9d3297-6906-40fe-874a-dfebff17fd57@www.johnsonnosek.com
DTSTAMP:20260419T160530Z
DTSTART:20260516T180000Z
DTEND:20260516T220000Z
SUMMARY:Celebration of Life
DESCRIPTION:
URL:https://www.johnsonnosek.com/obituaries/victoria-thomas
LOCATION:Nonnies Pizza 1565 75th Street  Woodridge IL 60517
GEO:41.7502666;-88.0238667
END:VEVENT
END:VCALENDAR